Workbook

Sheet 検査成績書
A1: 検査成績書 | G1: 成績書の番号 | L1: 入力のしかた（L列から右は印刷しません）
G2: 版 | L2: 白い欄に書き込みます。薄い緑の欄は数式で出ます。
A3: 発行元 | G3: 発行日 | L3: 測った値は L〜P 列に1個ずつ、半角の数値で入れます。
A5: 宛先（客先名） | G5: 客先の注文番号 | L5: 外観などは R 列に個数、S 列に判定を入れます。
A7: 品番 | G7: ロット番号 | L7: 規格を外れた値には色が付きます。
A8: 品名 | G8: 数量 | L8: 値を6個以上入れるときは、P 列を選んで列を挿入します。
A9: 図番と版 | G9: 出荷日 | L9: くわしくは「使い方」のシートにあります。
A11: No | B11: 検査項目 | C11: 規格値 | F11: 測定器の 管理番号 | G11: 測った 個数 | H11: 測定値 | J11: 判定 | L11: 測った値（生値） | Q11: 平均 | R11: 外観など
C12: 下限 | D12: 上限 | E12: 単位 | H12: 最小 | I12: 最大 | L12: 1 | M12: 2 | N12: 3 | O12: 4 | P12: 5 | R12: 個数 | S12: 判定
A13: 1 | G13: =IF(B13="","",IF(COUNT(L13:P13)>0,COUNT(L13:P13),IF(R13="","",R13))) | H13: =IF(COUNT(L13:P13)=0,"",MIN(L13:P13)) | I13: =IF(COUNT(L13:P13)=0,"",MAX(L13:P13)) | J13: =IF(B13="","",IF(OR(COUNT(L13:P13)=0,AND(NOT(ISNUMBER(C13)),NOT(ISNUMBER(D13)))),IF(S13="","",S13),IF(AND(OR(NOT(ISNUMBER(C13)),H13>=C13),OR(NOT(ISNUMBER(D13)),I13<=D13)),"合","否"))) | Q13: =IF(COUNT(L13:P13)=0,"",AVERAGE(L13:P13))
A14: 2 | G14: =IF(B14="","",IF(COUNT(L14:P14)>0,COUNT(L14:P14),IF(R14="","",R14))) | H14: =IF(COUNT(L14:P14)=0,"",MIN(L14:P14)) | I14: =IF(COUNT(L14:P14)=0,"",MAX(L14:P14)) | J14: =IF(B14="","",IF(OR(COUNT(L14:P14)=0,AND(NOT(ISNUMBER(C14)),NOT(ISNUMBER(D14)))),IF(S14="","",S14),IF(AND(OR(NOT(ISNUMBER(C14)),H14>=C14),OR(NOT(ISNUMBER(D14)),I14<=D14)),"合","否"))) | Q14: =IF(COUNT(L14:P14)=0,"",AVERAGE(L14:P14))
A15: 3 | G15: =IF(B15="","",IF(COUNT(L15:P15)>0,COUNT(L15:P15),IF(R15="","",R15))) | H15: =IF(COUNT(L15:P15)=0,"",MIN(L15:P15)) | I15: =IF(COUNT(L15:P15)=0,"",MAX(L15:P15)) | J15: =IF(B15="","",IF(OR(COUNT(L15:P15)=0,AND(NOT(ISNUMBER(C15)),NOT(ISNUMBER(D15)))),IF(S15="","",S15),IF(AND(OR(NOT(ISNUMBER(C15)),H15>=C15),OR(NOT(ISNUMBER(D15)),I15<=D15)),"合","否"))) | Q15: =IF(COUNT(L15:P15)=0,"",AVERAGE(L15:P15))
A16: 4 | G16: =IF(B16="","",IF(COUNT(L16:P16)>0,COUNT(L16:P16),IF(R16="","",R16))) | H16: =IF(COUNT(L16:P16)=0,"",MIN(L16:P16)) | I16: =IF(COUNT(L16:P16)=0,"",MAX(L16:P16)) | J16: =IF(B16="","",IF(OR(COUNT(L16:P16)=0,AND(NOT(ISNUMBER(C16)),NOT(ISNUMBER(D16)))),IF(S16="","",S16),IF(AND(OR(NOT(ISNUMBER(C16)),H16>=C16),OR(NOT(ISNUMBER(D16)),I16<=D16)),"合","否"))) | Q16: =IF(COUNT(L16:P16)=0,"",AVERAGE(L16:P16))
A17: 5 | G17: =IF(B17="","",IF(COUNT(L17:P17)>0,COUNT(L17:P17),IF(R17="","",R17))) | H17: =IF(COUNT(L17:P17)=0,"",MIN(L17:P17)) | I17: =IF(COUNT(L17:P17)=0,"",MAX(L17:P17)) | J17: =IF(B17="","",IF(OR(COUNT(L17:P17)=0,AND(NOT(ISNUMBER(C17)),NOT(ISNUMBER(D17)))),IF(S17="","",S17),IF(AND(OR(NOT(ISNUMBER(C17)),H17>=C17),OR(NOT(ISNUMBER(D17)),I17<=D17)),"合","否"))) | Q17: =IF(COUNT(L17:P17)=0,"",AVERAGE(L17:P17))
A18: 6 | G18: =IF(B18="","",IF(COUNT(L18:P18)>0,COUNT(L18:P18),IF(R18="","",R18))) | H18: =IF(COUNT(L18:P18)=0,"",MIN(L18:P18)) | I18: =IF(COUNT(L18:P18)=0,"",MAX(L18:P18)) | J18: =IF(B18="","",IF(OR(COUNT(L18:P18)=0,AND(NOT(ISNUMBER(C18)),NOT(ISNUMBER(D18)))),IF(S18="","",S18),IF(AND(OR(NOT(ISNUMBER(C18)),H18>=C18),OR(NOT(ISNUMBER(D18)),I18<=D18)),"合","否"))) | Q18: =IF(COUNT(L18:P18)=0,"",AVERAGE(L18:P18))
A19: 7 | G19: =IF(B19="","",IF(COUNT(L19:P19)>0,COUNT(L19:P19),IF(R19="","",R19))) | H19: =IF(COUNT(L19:P19)=0,"",MIN(L19:P19)) | I19: =IF(COUNT(L19:P19)=0,"",MAX(L19:P19)) | J19: =IF(B19="","",IF(OR(COUNT(L19:P19)=0,AND(NOT(ISNUMBER(C19)),NOT(ISNUMBER(D19)))),IF(S19="","",S19),IF(AND(OR(NOT(ISNUMBER(C19)),H19>=C19),OR(NOT(ISNUMBER(D19)),I19<=D19)),"合","否"))) | Q19: =IF(COUNT(L19:P19)=0,"",AVERAGE(L19:P19))
A20: 8 | G20: =IF(B20="","",IF(COUNT(L20:P20)>0,COUNT(L20:P20),IF(R20="","",R20))) | H20: =IF(COUNT(L20:P20)=0,"",MIN(L20:P20)) | I20: =IF(COUNT(L20:P20)=0,"",MAX(L20:P20)) | J20: =IF(B20="","",IF(OR(COUNT(L20:P20)=0,AND(NOT(ISNUMBER(C20)),NOT(ISNUMBER(D20)))),IF(S20="","",S20),IF(AND(OR(NOT(ISNUMBER(C20)),H20>=C20),OR(NOT(ISNUMBER(D20)),I20<=D20)),"合","否"))) | Q20: =IF(COUNT(L20:P20)=0,"",AVERAGE(L20:P20))
A21: 9 | G21: =IF(B21="","",IF(COUNT(L21:P21)>0,COUNT(L21:P21),IF(R21="","",R21))) | H21: =IF(COUNT(L21:P21)=0,"",MIN(L21:P21)) | I21: =IF(COUNT(L21:P21)=0,"",MAX(L21:P21)) | J21: =IF(B21="","",IF(OR(COUNT(L21:P21)=0,AND(NOT(ISNUMBER(C21)),NOT(ISNUMBER(D21)))),IF(S21="","",S21),IF(AND(OR(NOT(ISNUMBER(C21)),H21>=C21),OR(NOT(ISNUMBER(D21)),I21<=D21)),"合","否"))) | Q21: =IF(COUNT(L21:P21)=0,"",AVERAGE(L21:P21))
A22: 10 | G22: =IF(B22="","",IF(COUNT(L22:P22)>0,COUNT(L22:P22),IF(R22="","",R22))) | H22: =IF(COUNT(L22:P22)=0,"",MIN(L22:P22)) | I22: =IF(COUNT(L22:P22)=0,"",MAX(L22:P22)) | J22: =IF(B22="","",IF(OR(COUNT(L22:P22)=0,AND(NOT(ISNUMBER(C22)),NOT(ISNUMBER(D22)))),IF(S22="","",S22),IF(AND(OR(NOT(ISNUMBER(C22)),H22>=C22),OR(NOT(ISNUMBER(D22)),I22<=D22)),"合","否"))) | Q22: =IF(COUNT(L22:P22)=0,"",AVERAGE(L22:P22))
A24: 総合判定 | C24: 検査日 | E24: 検査した人 | H24: 出荷を許可した人
A25: =IF(COUNTA(B13:B22)=0,"",IF(COUNTIF(J13:J22,"否")>0,"不合格",IF(COUNTIF(J13:J22,"合")=COUNTA(B13:B22),"合格","未判定あり")))
A27: 別紙 | E27: 別紙の枚数
A28: 備考

Sheet 記入例
A1: 記入例の数字・日付・番号は説明のための例です。2枚目は別紙の例です。
A2: 検査成績書 | G2: 成績書の番号 | I2: 26-0153 | L2: 入力のしかた（L列から右は印刷しません）
G3: 版 | I3: 1 | L3: 白い欄に書き込みます。薄い緑の欄は数式で出ます。
A4: 発行元 | C4: △△工業株式会社 品質保証課 | G4: 発行日 | I4: 46297 | L4: 測った値は L〜P 列に1個ずつ、半角の数値で入れます。
A6: 宛先（客先名） | C6: ◯◯株式会社 御中 | G6: 客先の注文番号 | I6: PO-24817 | L6: 外観などは R 列に個数、S 列に判定を入れます。
A8: 品番 | C8: SH-1020 | G8: ロット番号 | I8: L261001-02 | L8: 規格を外れた値には色が付きます。
A9: 品名 | C9: シャフト | G9: 数量 | I9: 500 個 | L9: 値を6個以上入れるときは、P 列を選んで列を挿入します。
A10: 図番と版 | C10: D-1020 版C | G10: 出荷日 | I10: 46298 | L10: くわしくは「使い方」のシートにあります。
A12: No | B12: 検査項目 | C12: 規格値 | F12: 測定器の 管理番号 | G12: 測った 個数 | H12: 測定値 | J12: 判定 | L12: 測った値（生値） | Q12: 平均 | R12: 外観など
C13: 下限 | D13: 上限 | E13: 単位 | H13: 最小 | I13: 最大 | L13: 1 | M13: 2 | N13: 3 | O13: 4 | P13: 5 | R13: 個数 | S13: 判定
A14: 1 | B14: 外径 | C14: 9.95 | D14: 10.05 | E14: mm | F14: MC-03 | G14: =IF(B14="","",IF(COUNT(L14:P14)>0,COUNT(L14:P14),IF(R14="","",R14))) | H14: =IF(COUNT(L14:P14)=0,"",MIN(L14:P14)) | I14: =IF(COUNT(L14:P14)=0,"",MAX(L14:P14)) | J14: =IF(B14="","",IF(OR(COUNT(L14:P14)=0,AND(NOT(ISNUMBER(C14)),NOT(ISNUMBER(D14)))),IF(S14="","",S14),IF(AND(OR(NOT(ISNUMBER(C14)),H14>=C14),OR(NOT(ISNUMBER(D14)),I14<=D14)),"合","否"))) | L14: 10.01 | M14: 9.99 | N14: 10.02 | O14: 10 | P14: 10.01 | Q14: =IF(COUNT(L14:P14)=0,"",AVERAGE(L14:P14))
A15: 2 | B15: 全長 | C15: 49.8 | D15: 50.2 | E15: mm | F15: NC-11 | G15: =IF(B15="","",IF(COUNT(L15:P15)>0,COUNT(L15:P15),IF(R15="","",R15))) | H15: =IF(COUNT(L15:P15)=0,"",MIN(L15:P15)) | I15: =IF(COUNT(L15:P15)=0,"",MAX(L15:P15)) | J15: =IF(B15="","",IF(OR(COUNT(L15:P15)=0,AND(NOT(ISNUMBER(C15)),NOT(ISNUMBER(D15)))),IF(S15="","",S15),IF(AND(OR(NOT(ISNUMBER(C15)),H15>=C15),OR(NOT(ISNUMBER(D15)),I15<=D15)),"合","否"))) | L15: 50.05 | M15: 49.98 | N15: 50.1 | O15: 50.02 | P15: 49.95 | Q15: =IF(COUNT(L15:P15)=0,"",AVERAGE(L15:P15))
A16: 3 | B16: 穴径 | C16: 4 | D16: 4.1 | E16: mm | F16: HG-05 | G16: =IF(B16="","",IF(COUNT(L16:P16)>0,COUNT(L16:P16),IF(R16="","",R16))) | H16: =IF(COUNT(L16:P16)=0,"",MIN(L16:P16)) | I16: =IF(COUNT(L16:P16)=0,"",MAX(L16:P16)) | J16: =IF(B16="","",IF(OR(COUNT(L16:P16)=0,AND(NOT(ISNUMBER(C16)),NOT(ISNUMBER(D16)))),IF(S16="","",S16),IF(AND(OR(NOT(ISNUMBER(C16)),H16>=C16),OR(NOT(ISNUMBER(D16)),I16<=D16)),"合","否"))) | L16: 4.03 | M16: 4.05 | N16: 4.04 | O16: 4.06 | P16: 4.04 | Q16: =IF(COUNT(L16:P16)=0,"",AVERAGE(L16:P16))
A17: 4 | B17: 硬さ | C17: 20 | D17: 30 | E17: HRC | F17: HT-01 | G17: =IF(B17="","",IF(COUNT(L17:P17)>0,COUNT(L17:P17),IF(R17="","",R17))) | H17: =IF(COUNT(L17:P17)=0,"",MIN(L17:P17)) | I17: =IF(COUNT(L17:P17)=0,"",MAX(L17:P17)) | J17: =IF(B17="","",IF(OR(COUNT(L17:P17)=0,AND(NOT(ISNUMBER(C17)),NOT(ISNUMBER(D17)))),IF(S17="","",S17),IF(AND(OR(NOT(ISNUMBER(C17)),H17>=C17),OR(NOT(ISNUMBER(D17)),I17<=D17)),"合","否"))) | L17: 24 | M17: 25 | N17: 23 | O17: 25 | P17: 24 | Q17: =IF(COUNT(L17:P17)=0,"",AVERAGE(L17:P17))
A18: 5 | B18: 表面粗さ Ra | D18: 1.6 | E18: µm | F18: SR-02 | G18: =IF(B18="","",IF(COUNT(L18:P18)>0,COUNT(L18:P18),IF(R18="","",R18))) | H18: =IF(COUNT(L18:P18)=0,"",MIN(L18:P18)) | I18: =IF(COUNT(L18:P18)=0,"",MAX(L18:P18)) | J18: =IF(B18="","",IF(OR(COUNT(L18:P18)=0,AND(NOT(ISNUMBER(C18)),NOT(ISNUMBER(D18)))),IF(S18="","",S18),IF(AND(OR(NOT(ISNUMBER(C18)),H18>=C18),OR(NOT(ISNUMBER(D18)),I18<=D18)),"合","否"))) | L18: 0.8 | M18: 0.9 | N18: 0.7 | O18: 0.8 | P18: 0.9 | Q18: =IF(COUNT(L18:P18)=0,"",AVERAGE(L18:P18))
A19: 6 | B19: 外観 | C19: 限度見本どおり | F19: LS-12 | G19: =IF(B19="","",IF(COUNT(L19:P19)>0,COUNT(L19:P19),IF(R19="","",R19))) | H19: =IF(COUNT(L19:P19)=0,"",MIN(L19:P19)) | I19: =IF(COUNT(L19:P19)=0,"",MAX(L19:P19)) | J19: =IF(B19="","",IF(OR(COUNT(L19:P19)=0,AND(NOT(ISNUMBER(C19)),NOT(ISNUMBER(D19)))),IF(S19="","",S19),IF(AND(OR(NOT(ISNUMBER(C19)),H19>=C19),OR(NOT(ISNUMBER(D19)),I19<=D19)),"合","否"))) | Q19: =IF(COUNT(L19:P19)=0,"",AVERAGE(L19:P19)) | R19: 500 | S19: 合
A20: 7 | G20: =IF(B20="","",IF(COUNT(L20:P20)>0,COUNT(L20:P20),IF(R20="","",R20))) | H20: =IF(COUNT(L20:P20)=0,"",MIN(L20:P20)) | I20: =IF(COUNT(L20:P20)=0,"",MAX(L20:P20)) | J20: =IF(B20="","",IF(OR(COUNT(L20:P20)=0,AND(NOT(ISNUMBER(C20)),NOT(ISNUMBER(D20)))),IF(S20="","",S20),IF(AND(OR(NOT(ISNUMBER(C20)),H20>=C20),OR(NOT(ISNUMBER(D20)),I20<=D20)),"合","否"))) | Q20: =IF(COUNT(L20:P20)=0,"",AVERAGE(L20:P20))
A21: 8 | G21: =IF(B21="","",IF(COUNT(L21:P21)>0,COUNT(L21:P21),IF(R21="","",R21))) | H21: =IF(COUNT(L21:P21)=0,"",MIN(L21:P21)) | I21: =IF(COUNT(L21:P21)=0,"",MAX(L21:P21)) | J21: =IF(B21="","",IF(OR(COUNT(L21:P21)=0,AND(NOT(ISNUMBER(C21)),NOT(ISNUMBER(D21)))),IF(S21="","",S21),IF(AND(OR(NOT(ISNUMBER(C21)),H21>=C21),OR(NOT(ISNUMBER(D21)),I21<=D21)),"合","否"))) | Q21: =IF(COUNT(L21:P21)=0,"",AVERAGE(L21:P21))
A22: 9 | G22: =IF(B22="","",IF(COUNT(L22:P22)>0,COUNT(L22:P22),IF(R22="","",R22))) | H22: =IF(COUNT(L22:P22)=0,"",MIN(L22:P22)) | I22: =IF(COUNT(L22:P22)=0,"",MAX(L22:P22)) | J22: =IF(B22="","",IF(OR(COUNT(L22:P22)=0,AND(NOT(ISNUMBER(C22)),NOT(ISNUMBER(D22)))),IF(S22="","",S22),IF(AND(OR(NOT(ISNUMBER(C22)),H22>=C22),OR(NOT(ISNUMBER(D22)),I22<=D22)),"合","否"))) | Q22: =IF(COUNT(L22:P22)=0,"",AVERAGE(L22:P22))
A23: 10 | G23: =IF(B23="","",IF(COUNT(L23:P23)>0,COUNT(L23:P23),IF(R23="","",R23))) | H23: =IF(COUNT(L23:P23)=0,"",MIN(L23:P23)) | I23: =IF(COUNT(L23:P23)=0,"",MAX(L23:P23)) | J23: =IF(B23="","",IF(OR(COUNT(L23:P23)=0,AND(NOT(ISNUMBER(C23)),NOT(ISNUMBER(D23)))),IF(S23="","",S23),IF(AND(OR(NOT(ISNUMBER(C23)),H23>=C23),OR(NOT(ISNUMBER(D23)),I23<=D23)),"合","否"))) | Q23: =IF(COUNT(L23:P23)=0,"",AVERAGE(L23:P23))
A25: 総合判定 | C25: 検査日 | E25: 検査した人 | H25: 出荷を許可した人
A26: =IF(COUNTA(B14:B23)=0,"",IF(COUNTIF(J14:J23,"否")>0,"不合格",IF(COUNTIF(J14:J23,"合")=COUNTA(B14:B23),"合格","未判定あり"))) | C26: 46297 | E26: 検査係 ◯◯ | H26: 品質保証 ◯◯
A28: 別紙 | C28: 有 | E28: 別紙の枚数 | G28: 1 枚
A29: 備考 | C29: 外径の工程能力指数と、客先指定の管理番号は別紙に書いています。
A31: 検査成績書 別紙 | G31: 成績書の番号 | I31: =IF(I2="","",I2) | L31: 客先ごとの控え（L列から右は印刷しません）
G32: 版 | I32: =IF(I3="","",I3) | L32: 客先ごとにこのシートをコピーし、項目の名前を書いておきます。
A33: 宛先（客先名） | C33: =IF(C6="","",C6) | G33: 別紙の番号 | I33: 1／1 | L33: 指定の出どころは、欄を削るかどうかを決めるときに見返します。
A35: 品番 | C35: =IF(C8="","",C8) | G35: ロット番号 | I35: =IF(I8="","",I8)
A37: 追加項目
A38: No | B38: 項目 | E38: 内容・値 | L38: 指定の出どころ | N38: 確かめた日
A39: 1 | B39: 客先指定の管理番号 | E39: K-55-0193 | L39: 購入仕様書 | N39: 46275
A40: 2 | B40: φD の工程能力指数（Cpk） | E40: 1.52（同じロットの工程内検査50個から算出） | L40: 品質協定 | N40: 46275
A41: 3 | B41: 材料の証明書（ミルシート）の番号 | E41: MS-26-0412 | L41: 客先の依頼 | N41: 46277
A42: 4
A43: 5
A44: 6
A45: 7
A46: 8
A48: 測定値の明細
A49: No | B49: 検査項目 | C49: 単位 | D49: 測った値 | I49: 平均
...

Sheet 客先別の追加項目
A1: 検査成績書 別紙 | G1: 成績書の番号 | I1: =IF('検査成績書'!I1="","",'検査成績書'!I1) | L1: 客先ごとの控え（L列から右は印刷しません）
G2: 版 | I2: =IF('検査成績書'!I2="","",'検査成績書'!I2) | L2: 客先ごとにこのシートをコピーし、項目の名前を書いておきます。
A3: 宛先（客先名） | C3: =IF('検査成績書'!C5="","",'検査成績書'!C5) | G3: 別紙の番号 | L3: 指定の出どころは、欄を削るかどうかを決めるときに見返します。
A5: 品番 | C5: =IF('検査成績書'!C7="","",'検査成績書'!C7) | G5: ロット番号 | I5: =IF('検査成績書'!I7="","",'検査成績書'!I7)
A7: 追加項目
A8: No | B8: 項目 | E8: 内容・値 | L8: 指定の出どころ | N8: 確かめた日
A9: 1
A10: 2
A11: 3
A12: 4
A13: 5
A14: 6
A15: 7
A16: 8
A18: 測定値の明細
A19: No | B19: 検査項目 | C19: 単位 | D19: 測った値 | I19: 平均
D20: 1 | E20: 2 | F20: 3 | G20: 4 | H20: 5
A21: 1 | B21: =IF('検査成績書'!B13="","",'検査成績書'!B13) | C21: =IF('検査成績書'!E13="","",'検査成績書'!E13) | D21: =IF('検査成績書'!L13="","",'検査成績書'!L13) | E21: =IF('検査成績書'!M13="","",'検査成績書'!M13) | F21: =IF('検査成績書'!N13="","",'検査成績書'!N13) | G21: =IF('検査成績書'!O13="","",'検査成績書'!O13) | H21: =IF('検査成績書'!P13="","",'検査成績書'!P13) | I21: =IF('検査成績書'!Q13="","",'検査成績書'!Q13)
A22: 2 | B22: =IF('検査成績書'!B14="","",'検査成績書'!B14) | C22: =IF('検査成績書'!E14="","",'検査成績書'!E14) | D22: =IF('検査成績書'!L14="","",'検査成績書'!L14) | E22: =IF('検査成績書'!M14="","",'検査成績書'!M14) | F22: =IF('検査成績書'!N14="","",'検査成績書'!N14) | G22: =IF('検査成績書'!O14="","",'検査成績書'!O14) | H22: =IF('検査成績書'!P14="","",'検査成績書'!P14) | I22: =IF('検査成績書'!Q14="","",'検査成績書'!Q14)
A23: 3 | B23: =IF('検査成績書'!B15="","",'検査成績書'!B15) | C23: =IF('検査成績書'!E15="","",'検査成績書'!E15) | D23: =IF('検査成績書'!L15="","",'検査成績書'!L15) | E23: =IF('検査成績書'!M15="","",'検査成績書'!M15) | F23: =IF('検査成績書'!N15="","",'検査成績書'!N15) | G23: =IF('検査成績書'!O15="","",'検査成績書'!O15) | H23: =IF('検査成績書'!P15="","",'検査成績書'!P15) | I23: =IF('検査成績書'!Q15="","",'検査成績書'!Q15)
A24: 4 | B24: =IF('検査成績書'!B16="","",'検査成績書'!B16) | C24: =IF('検査成績書'!E16="","",'検査成績書'!E16) | D24: =IF('検査成績書'!L16="","",'検査成績書'!L16) | E24: =IF('検査成績書'!M16="","",'検査成績書'!M16) | F24: =IF('検査成績書'!N16="","",'検査成績書'!N16) | G24: =IF('検査成績書'!O16="","",'検査成績書'!O16) | H24: =IF('検査成績書'!P16="","",'検査成績書'!P16) | I24: =IF('検査成績書'!Q16="","",'検査成績書'!Q16)
A25: 5 | B25: =IF('検査成績書'!B17="","",'検査成績書'!B17) | C25: =IF('検査成績書'!E17="","",'検査成績書'!E17) | D25: =IF('検査成績書'!L17="","",'検査成績書'!L17) | E25: =IF('検査成績書'!M17="","",'検査成績書'!M17) | F25: =IF('検査成績書'!N17="","",'検査成績書'!N17) | G25: =IF('検査成績書'!O17="","",'検査成績書'!O17) | H25: =IF('検査成績書'!P17="","",'検査成績書'!P17) | I25: =IF('検査成績書'!Q17="","",'検査成績書'!Q17)
A26: 6 | B26: =IF('検査成績書'!B18="","",'検査成績書'!B18) | C26: =IF('検査成績書'!E18="","",'検査成績書'!E18) | D26: =IF('検査成績書'!L18="","",'検査成績書'!L18) | E26: =IF('検査成績書'!M18="","",'検査成績書'!M18) | F26: =IF('検査成績書'!N18="","",'検査成績書'!N18) | G26: =IF('検査成績書'!O18="","",'検査成績書'!O18) | H26: =IF('検査成績書'!P18="","",'検査成績書'!P18) | I26: =IF('検査成績書'!Q18="","",'検査成績書'!Q18)
A27: 7 | B27: =IF('検査成績書'!B19="","",'検査成績書'!B19) | C27: =IF('検査成績書'!E19="","",'検査成績書'!E19) | D27: =IF('検査成績書'!L19="","",'検査成績書'!L19) | E27: =IF('検査成績書'!M19="","",'検査成績書'!M19) | F27: =IF('検査成績書'!N19="","",'検査成績書'!N19) | G27: =IF('検査成績書'!O19="","",'検査成績書'!O19) | H27: =IF('検査成績書'!P19="","",'検査成績書'!P19) | I27: =IF('検査成績書'!Q19="","",'検査成績書'!Q19)
A28: 8 | B28: =IF('検査成績書'!B20="","",'検査成績書'!B20) | C28: =IF('検査成績書'!E20="","",'検査成績書'!E20) | D28: =IF('検査成績書'!L20="","",'検査成績書'!L20) | E28: =IF('検査成績書'!M20="","",'検査成績書'!M20) | F28: =IF('検査成績書'!N20="","",'検査成績書'!N20) | G28: =IF('検査成績書'!O20="","",'検査成績書'!O20) | H28: =IF('検査成績書'!P20="","",'検査成績書'!P20) | I28: =IF('検査成績書'!Q20="","",'検査成績書'!Q20)
A29: 9 | B29: =IF('検査成績書'!B21="","",'検査成績書'!B21) | C29: =IF('検査成績書'!E21="","",'検査成績書'!E21) | D29: =IF('検査成績書'!L21="","",'検査成績書'!L21) | E29: =IF('検査成績書'!M21="","",'検査成績書'!M21) | F29: =IF('検査成績書'!N21="","",'検査成績書'!N21) | G29: =IF('検査成績書'!O21="","",'検査成績書'!O21) | H29: =IF('検査成績書'!P21="","",'検査成績書'!P21) | I29: =IF('検査成績書'!Q21="","",'検査成績書'!Q21)
A30: 10 | B30: =IF('検査成績書'!B22="","",'検査成績書'!B22) | C30: =IF('検査成績書'!E22="","",'検査成績書'!E22) | D30: =IF('検査成績書'!L22="","",'検査成績書'!L22) | E30: =IF('検査成績書'!M22="","",'検査成績書'!M22) | F30: =IF('検査成績書'!N22="","",'検査成績書'!N22) | G30: =IF('検査成績書'!O22="","",'検査成績書'!O22) | H30: =IF('検査成績書'!P22="","",'検査成績書'!P22) | I30: =IF('検査成績書'!Q22="","",'検査成績書'!Q22)
A32: 備考

Sheet 使い方
A1: 使い方
A3: 1. | B3: 客先が品質協定や購入仕様書で様式を指定しているときは、その客先には指定の様式で出します。この様式は、それ以外の客先に出す共通の本体です。
A4: 2. | B4: 品番ごとに検査項目と規格値が決まっているなら、品番ごとにこのファイルを写し、項目・規格値・測定器まで書いて保存しておきます。出荷のたびに書くのは、番号・日付・ロット・測った値だけになります。
A5: 3. | B5: 「検査成績書」のシートに、上から成績書の番号と版、発行日、発行元、宛先、品番とロットを書きます。客先の注文番号を使わない客先には、空欄のまま出します。
A6: 4. | B6: 検査項目の表に、項目ごとの規格値（下限・上限・単位）と、使った測定器の管理番号を書きます。片側だけの規格は、使わない側を空けておきます。
A7: 5. | B7: 測った値は、表の右の L〜P 列（印刷しない）に1個ずつ、半角の数値で入れます。測った個数・最小・最大・判定と、Q 列の平均は数式で出ます。規格を外れた値には色が付きます。
A8: 6. | B8: 外観など数値で測らない項目は、規格値の下限の欄に「限度見本どおり」のように文字で書き、R 列に検査した個数、S 列に判定（合・否）を入れます。規格値の無い参考の項目も、判定は S 列で選びます。
A9: 7. | B9: 値を6個以上入れるときは、P 列（5個目）を選んで列を挿入します。L〜P の内側に足した列は、数式の範囲に入ります。別紙の「測定値の明細」にも同じ数の列を足し、左の列の式を右へコピーします。
A10: 8. | B10: 項目が10を超えるときは、10番の行の上に行を挿入し、上の行の式をコピーします。総合判定の数式の範囲も一緒に広がります。印刷は A4 縦1枚に収める設定なので、行を足すと字が小さくなります。
A11: 9. | B11: 総合判定は、項目の判定に「否」が1つでもあれば「不合格」、すべて「合」なら「合格」と出ます。判定の入っていない項目があると「未判定あり」と出ます。特別採用（特採）で出すときは「不合格」のまま出し、客先と取り決めた特採の番号を備考に書きます。
A12: 10. | B12: 検査した人と出荷を許可した人は、客先が指定していなくても書きます。出荷を許可した人の欄は、ISO 9001:2015 の 8.6 が求める、リリースを許可した人の記録にあたります。
A13: 11. | B13: 半数に届かない客先だけが求める欄は、「客先別の追加項目」のシートに書いて別紙として付けます。成績書の番号・宛先・品番・ロット番号と、測定値の明細は本体から数式で入ります。別紙を付けたら、本体の「別紙」を「有」にして枚数を書きます。
A14: 12. | B14: 「客先別の追加項目」のシートは客先ごとにコピーし、シート名を客先名に変えて、項目の名前と指定の出どころ（L 列・印刷しない）を書いておきます。出荷のたびに書き換えるのは「内容・値」の列だけです。測った値を求めない客先のシートでは、「測定値の明細」の表を消します。
... A16: 14. | B16: 欄の決め方の説明（ガイド）：https://genba-tameshita.com/common-inspection-certificate-format/
