Workbook

Sheet 管理台帳
A1: 限度見本の管理台帳 | Q1: 今日 | R1: =TODAY()
A2: 1行に1組（合格側1個と不合格側1個）を書きます。不具合の項目が違えば行を分けます。最後の点検日は「点検記録」のシートから入ります。
A3: 色の意味 | B3: 期限・点検日を過ぎた | D3: 30日以内に来る | F3: 自動で入る欄 | I3: 書き込む欄 | K3: 「廃却」「参考」の行は灰色の字になり、色は付きません
A5: 見本（1行＝1組：合格側1個と不合格側1個） | G5: 作成・承認・期限 | K5: 保管と点検 | P5: 状態
A6: 見本番号 （組） | B6: 品番・品名 | C6: 不具合の 項目 | D6: 合格側の 番号 | E6: 不合格側の 番号 | F6: 定規つき の写真 | G6: 作成日 | H6: 客先の 承認 | I6: 承認日 | J6: 有効期限 | K6: 保管場所 | L6: 保管の条件 | M6: 点検の 間隔 （月） | N6: 最後の 点検日 （自動） | O6: 次回 点検日 （自動） | P6: 状態 | Q6: 廃却日 | R6: 廃却の理由 | S6: 備考
N7: =IF($A7="","",IFERROR(IF(SUMPRODUCT(MAX(('点検記録'!$B$7:$B$206=$A7)*'点検記録'!$A$7:$A$206))=0,"",SUMPRODUCT(MAX(('点検記録'!$B$7:$B$206=$A7)*'点検記録'!$A$7:$A$206))),"点検日を確認")) | O7: =IF(OR($A7="",$M7="",$P7="廃却",$P7="参考"),"",IFERROR(IF(ISNUMBER($N7),EDATE($N7,$M7),IF(ISNUMBER($G7),EDATE($G7,$M7),"")),""))
N8: =IF($A8="","",IFERROR(IF(SUMPRODUCT(MAX(('点検記録'!$B$7:$B$206=$A8)*'点検記録'!$A$7:$A$206))=0,"",SUMPRODUCT(MAX(('点検記録'!$B$7:$B$206=$A8)*'点検記録'!$A$7:$A$206))),"点検日を確認")) | O8: =IF(OR($A8="",$M8="",$P8="廃却",$P8="参考"),"",IFERROR(IF(ISNUMBER($N8),EDATE($N8,$M8),IF(ISNUMBER($G8),EDATE($G8,$M8),"")),""))
N9: =IF($A9="","",IFERROR(IF(SUMPRODUCT(MAX(('点検記録'!$B$7:$B$206=$A9)*'点検記録'!$A$7:$A$206))=0,"",SUMPRODUCT(MAX(('点検記録'!$B$7:$B$206=$A9)*'点検記録'!$A$7:$A$206))),"点検日を確認")) | O9: =IF(OR($A9="",$M9="",$P9="廃却",$P9="参考"),"",IFERROR(IF(ISNUMBER($N9),EDATE($N9,$M9),IF(ISNUMBER($G9),EDATE($G9,$M9),"")),""))
N10: =IF($A10="","",IFERROR(IF(SUMPRODUCT(MAX(('点検記録'!$B$7:$B$206=$A10)*'点検記録'!$A$7:$A$206))=0,"",SUMPRODUCT(MAX(('点検記録'!$B$7:$B$206=$A10)*'点検記録'!$A$7:$A$206))),"点検日を確認")) | O10: =IF(OR($A10="",$M10="",$P10="廃却",$P10="参考"),"",IFERROR(IF(ISNUMBER($N10),EDATE($N10,$M10),IF(ISNUMBER($G10),EDATE($G10,$M10),"")),""))
N11: =IF($A11="","",IFERROR(IF(SUMPRODUCT(MAX(('点検記録'!$B$7:$B$206=$A11)*'点検記録'!$A$7:$A$206))=0,"",SUMPRODUCT(MAX(('点検記録'!$B$7:$B$206=$A11)*'点検記録'!$A$7:$A$206))),"点検日を確認")) | O11: =IF(OR($A11="",$M11="",$P11="廃却",$P11="参考"),"",IFERROR(IF(ISNUMBER($N11),EDATE($N11,$M11),IF(ISNUMBER($G11),EDATE($G11,$M11),"")),""))
N12: =IF($A12="","",IFERROR(IF(SUMPRODUCT(MAX(('点検記録'!$B$7:$B$206=$A12)*'点検記録'!$A$7:$A$206))=0,"",SUMPRODUCT(MAX(('点検記録'!$B$7:$B$206=$A12)*'点検記録'!$A$7:$A$206))),"点検日を確認")) | O12: =IF(OR($A12="",$M12="",$P12="廃却",$P12="参考"),"",IFERROR(IF(ISNUMBER($N12),EDATE($N12,$M12),IF(ISNUMBER($G12),EDATE($G12,$M12),"")),""))
N13: =IF($A13="","",IFERROR(IF(SUMPRODUCT(MAX(('点検記録'!$B$7:$B$206=$A13)*'点検記録'!$A$7:$A$206))=0,"",SUMPRODUCT(MAX(('点検記録'!$B$7:$B$206=$A13)*'点検記録'!$A$7:$A$206))),"点検日を確認")) | O13: =IF(OR($A13="",$M13="",$P13="廃却",$P13="参考"),"",IFERROR(IF(ISNUMBER($N13),EDATE($N13,$M13),IF(ISNUMBER($G13),EDATE($G13,$M13),"")),""))
N14: =IF($A14="","",IFERROR(IF(SUMPRODUCT(MAX(('点検記録'!$B$7:$B$206=$A14)*'点検記録'!$A$7:$A$206))=0,"",SUMPRODUCT(MAX(('点検記録'!$B$7:$B$206=$A14)*'点検記録'!$A$7:$A$206))),"点検日を確認")) | O14: =IF(OR($A14="",$M14="",$P14="廃却",$P14="参考"),"",IFERROR(IF(ISNUMBER($N14),EDATE($N14,$M14),IF(ISNUMBER($G14),EDATE($G14,$M14),"")),""))
N15: =IF($A15="","",IFERROR(IF(SUMPRODUCT(MAX(('点検記録'!$B$7:$B$206=$A15)*'点検記録'!$A$7:$A$206))=0,"",SUMPRODUCT(MAX(('点検記録'!$B$7:$B$206=$A15)*'点検記録'!$A$7:$A$206))),"点検日を確認")) | O15: =IF(OR($A15="",$M15="",$P15="廃却",$P15="参考"),"",IFERROR(IF(ISNUMBER($N15),EDATE($N15,$M15),IF(ISNUMBER($G15),EDATE($G15,$M15),"")),""))
N16: =IF($A16="","",IFERROR(IF(SUMPRODUCT(MAX(('点検記録'!$B$7:$B$206=$A16)*'点検記録'!$A$7:$A$206))=0,"",SUMPRODUCT(MAX(('点検記録'!$B$7:$B$206=$A16)*'点検記録'!$A$7:$A$206))),"点検日を確認")) | O16: =IF(OR($A16="",$M16="",$P16="廃却",$P16="参考"),"",IFERROR(IF(ISNUMBER($N16),EDATE($N16,$M16),IF(ISNUMBER($G16),EDATE($G16,$M16),"")),""))
N17: =IF($A17="","",IFERROR(IF(SUMPRODUCT(MAX(('点検記録'!$B$7:$B$206=$A17)*'点検記録'!$A$7:$A$206))=0,"",SUMPRODUCT(MAX(('点検記録'!$B$7:$B$206=$A17)*'点検記録'!$A$7:$A$206))),"点検日を確認")) | O17: =IF(OR($A17="",$M17="",$P17="廃却",$P17="参考"),"",IFERROR(IF(ISNUMBER($N17),EDATE($N17,$M17),IF(ISNUMBER($G17),EDATE($G17,$M17),"")),""))
N18: =IF($A18="","",IFERROR(IF(SUMPRODUCT(MAX(('点検記録'!$B$7:$B$206=$A18)*'点検記録'!$A$7:$A$206))=0,"",SUMPRODUCT(MAX(('点検記録'!$B$7:$B$206=$A18)*'点検記録'!$A$7:$A$206))),"点検日を確認")) | O18: =IF(OR($A18="",$M18="",$P18="廃却",$P18="参考"),"",IFERROR(IF(ISNUMBER($N18),EDATE($N18,$M18),IF(ISNUMBER($G18),EDATE($G18,$M18),"")),""))
... N106: =IF($A106="","",IFERROR(IF(SUMPRODUCT(MAX(('点検記録'!$B$7:$B$206=$A106)*'点検記録'!$A$7:$A$206))=0,"",SUMPRODUCT(MAX(('点検記録'!$B$7:$B$206=$A106)*'点検記録'!$A$7:$A$206))),"点検日を確認")) | O106: =IF(OR($A106="",$M106="",$P106="廃却",$P106="参考"),"",IFERROR(IF(ISNUMBER($N106),EDATE($N106,$M106),IF(ISNUMBER($G106),EDATE($G106,$M106),"")),""))

Sheet 記入例
A1: 記入例の番号・品番・日付は説明のための例です。色は 2026年10月2日を今日として付けています。
A2: 限度見本の管理台帳 | Q2: 今日（例） | R2: 46297
A3: 1行に1組（合格側1個と不合格側1個）を書きます。不具合の項目が違えば行を分けます。最後の点検日は「点検記録」のシートから入ります。
A4: 色の意味 | B4: 期限・点検日を過ぎた | D4: 30日以内に来る | F4: 自動で入る欄 | I4: 書き込む欄 | K4: 「廃却」「参考」の行は灰色の字になり、色は付きません
A6: 見本（1行＝1組：合格側1個と不合格側1個） | G6: 作成・承認・期限 | K6: 保管と点検 | P6: 状態
A7: 見本番号 （組） | B7: 品番・品名 | C7: 不具合の 項目 | D7: 合格側の 番号 | E7: 不合格側の 番号 | F7: 定規つき の写真 | G7: 作成日 | H7: 客先の 承認 | I7: 承認日 | J7: 有効期限 | K7: 保管場所 | L7: 保管の条件 | M7: 点検の 間隔 （月） | N7: 最後の 点検日 （自動） | O7: 次回 点検日 （自動） | P7: 状態 | Q7: 廃却日 | R7: 廃却の理由 | S7: 備考
A8: 限-001 | B8: A-1001 カバー | C8: キズ | F8: 無 | G8: 44326 | H8: 不要 | K8: 品証の書庫 | L8: 箱に入れて保管 | N8: =IF($A8="","",IFERROR(IF(SUMPRODUCT(MAX(($B$18:$B$26=$A8)*$A$18:$A$26))=0,"",SUMPRODUCT(MAX(($B$18:$B$26=$A8)*$A$18:$A$26))),"点検日を確認")) | O8: =IF(OR($A8="",$M8="",$P8="廃却",$P8="参考"),"",IFERROR(IF(ISNUMBER($N8),EDATE($N8,$M8),IF(ISNUMBER($G8),EDATE($G8,$M8),"")),"")) | P8: 参考 | S8: 合否の記載が無い旧見本
A9: 限-002 | B9: A-1001 カバー | C9: キズ | D9: 限-002-合 | E9: 限-002-不 | F9: 有 | G9: 46204 | H9: 不要 | J9: 46568 | K9: 検査室 見本棚A | L9: 遮光袋に入れて箱で保管 | M9: 3 | N9: =IF($A9="","",IFERROR(IF(SUMPRODUCT(MAX(($B$18:$B$26=$A9)*$A$18:$A$26))=0,"",SUMPRODUCT(MAX(($B$18:$B$26=$A9)*$A$18:$A$26))),"点検日を確認")) | O9: =IF(OR($A9="",$M9="",$P9="廃却",$P9="参考"),"",IFERROR(IF(ISNUMBER($N9),EDATE($N9,$M9),IF(ISNUMBER($G9),EDATE($G9,$M9),"")),"")) | P9: 有効 | S9: 限-001 を置き換え
A10: 限-003 | B10: A-1001 カバー | C10: 白化 | D10: 限-003-合 | E10: 限-003-不 | F10: 有 | G10: 46204 | H10: 不要 | J10: 46568 | K10: 検査室 見本棚A | L10: 遮光袋に入れて箱で保管 | M10: 2 | N10: =IF($A10="","",IFERROR(IF(SUMPRODUCT(MAX(($B$18:$B$26=$A10)*$A$18:$A$26))=0,"",SUMPRODUCT(MAX(($B$18:$B$26=$A10)*$A$18:$A$26))),"点検日を確認")) | O10: =IF(OR($A10="",$M10="",$P10="廃却",$P10="参考"),"",IFERROR(IF(ISNUMBER($N10),EDATE($N10,$M10),IF(ISNUMBER($G10),EDATE($G10,$M10),"")),"")) | P10: 有効 | S10: 斜めから見ると強く出る
A11: 限-004 | B11: A-1001 カバー | C11: ゲート残り | D11: 限-004-合 | E11: 限-004-不 | F11: 有 | G11: 46204 | H11: 不要 | J11: 46568 | K11: 検査室 見本棚A | L11: 遮光袋に入れて箱で保管 | M11: 3 | N11: =IF($A11="","",IFERROR(IF(SUMPRODUCT(MAX(($B$18:$B$26=$A11)*$A$18:$A$26))=0,"",SUMPRODUCT(MAX(($B$18:$B$26=$A11)*$A$18:$A$26))),"点検日を確認")) | O11: =IF(OR($A11="",$M11="",$P11="廃却",$P11="参考"),"",IFERROR(IF(ISNUMBER($N11),EDATE($N11,$M11),IF(ISNUMBER($G11),EDATE($G11,$M11),"")),"")) | P11: 有効
A12: 限-005 | B12: B-2040 ケース | C12: 色むら | D12: 限-005-合 | E12: 限-005-不 | F12: 無 | G12: 45931 | H12: 要 | I12: 45950 | J12: 46295 | K12: 検査室 見本棚B | L12: 遮光袋。日の当たらない棚 | M12: 6 | N12: =IF($A12="","",IFERROR(IF(SUMPRODUCT(MAX(($B$18:$B$26=$A12)*$A$18:$A$26))=0,"",SUMPRODUCT(MAX(($B$18:$B$26=$A12)*$A$18:$A$26))),"点検日を確認")) | O12: =IF(OR($A12="",$M12="",$P12="廃却",$P12="参考"),"",IFERROR(IF(ISNUMBER($N12),EDATE($N12,$M12),IF(ISNUMBER($G12),EDATE($G12,$M12),"")),"")) | P12: 更新中 | S12: 新しい組を客先に承認依頼中
A13: 限-006 | B13: C-3105 ブラケット | C13: 打痕 | D13: 限-006-合 | E13: 限-006-不 | F13: 有 | G13: 45383 | H13: 要 | I13: 45397 | J13: 46112 | K13: 検査室 見本棚C | L13: 防錆紙で包む | M13: 6 | N13: =IF($A13="","",IFERROR(IF(SUMPRODUCT(MAX(($B$18:$B$26=$A13)*$A$18:$A$26))=0,"",SUMPRODUCT(MAX(($B$18:$B$26=$A13)*$A$18:$A$26))),"点検日を確認")) | O13: =IF(OR($A13="",$M13="",$P13="廃却",$P13="参考"),"",IFERROR(IF(ISNUMBER($N13),EDATE($N13,$M13),IF(ISNUMBER($G13),EDATE($G13,$M13),"")),"")) | P13: 廃却 | Q13: 46114 | R13: 錆で打痕の縁が見えにくい | S13: 限-007 に置き換え
A14: 限-007 | B14: C-3105 ブラケット | C14: 打痕 | D14: 限-007-合 | E14: 限-007-不 | F14: 有 | G14: 46114 | H14: 要 | I14: 46132 | J14: 46843 | K14: 検査室 見本棚C | L14: 防錆紙と乾燥剤 | M14: 3 | N14: =IF($A14="","",IFERROR(IF(SUMPRODUCT(MAX(($B$18:$B$26=$A14)*$A$18:$A$26))=0,"",SUMPRODUCT(MAX(($B$18:$B$26=$A14)*$A$18:$A$26))),"点検日を確認")) | O14: =IF(OR($A14="",$M14="",$P14="廃却",$P14="参考"),"",IFERROR(IF(ISNUMBER($N14),EDATE($N14,$M14),IF(ISNUMBER($G14),EDATE($G14,$M14),"")),"")) | P14: 有効 | S14: 限-006 を置き換え
A16: 点検記録の記入例（「点検記録」のシートに書く中身。上の表の最後の点検日は、ここの日付から入ります）
A17: 点検日 | B17: 見本番号 （組） | C17: 品番・品名 （自動） | E17: 不具合の 項目 （自動） | F17: 点検の 種類 | H17: 合格側の 状態 | J17: 不合格側の 状態 | K17: 写真と 比べて | L17: 照合した 個数 | M17: 判定が 割れた個数 | O17: 処置 | Q17: 点検者 | R17: 気づいたこと
A18: 46114 | B18: 限-006 | C18: =IF($B18="","",IFERROR(INDEX($B$8:$B$14,MATCH($B18,$A$8:$A$14,0))&"","台帳に無い番号")) | E18: =IF($B18="","",IFERROR(INDEX($C$8:$C$14,MATCH($B18,$A$8:$A$14,0))&"","")) | F18: 定期点検 | H18: 変色 | J18: 変色 | K18: 違う | O18: 廃却する | Q18: 品証 A | R18: 錆で打痕の縁が見えにくい。新しい組を作る
A19: 46198 | B19: 限-007 | C19: =IF($B19="","",IFERROR(INDEX($B$8:$B$14,MATCH($B19,$A$8:$A$14,0))&"","台帳に無い番号")) | E19: =IF($B19="","",IFERROR(INDEX($C$8:$C$14,MATCH($B19,$A$8:$A$14,0))&"","")) | F19: 定期点検 | H19: 変化なし | J19: 汚れ | K19: 同じ | O19: 清掃して使う | Q19: 品証 A | R19: 油の拭き残し。素手で触らず手袋で扱う
A20: 46204 | B20: 限-002 | C20: =IF($B20="","",IFERROR(INDEX($B$8:$B$14,MATCH($B20,$A$8:$A$14,0))&"","台帳に無い番号")) | E20: =IF($B20="","",IFERROR(INDEX($C$8:$C$14,MATCH($B20,$A$8:$A$14,0))&"","")) | F20: 照合 | H20: 変化なし | J20: 変化なし | K20: 同じ | L20: 30 | M20: 1 | O20: そのまま使う | Q20: 品証 A | R20: 短いが深いキズで割れた。基準書に1行足した
A21: 46204 | B21: 限-003 | C21: =IF($B21="","",IFERROR(INDEX($B$8:$B$14,MATCH($B21,$A$8:$A$14,0))&"","台帳に無い番号")) | E21: =IF($B21="","",IFERROR(INDEX($C$8:$C$14,MATCH($B21,$A$8:$A$14,0))&"","")) | F21: 照合 | H21: 変化なし | J21: 変化なし | K21: 同じ | L21: 30 | M21: 3 | O21: そのまま使う | Q21: 品証 A | R21: 斜めから見た人が不合格にした。置き位置の線を引いた
A22: 46204 | B22: 限-004 | C22: =IF($B22="","",IFERROR(INDEX($B$8:$B$14,MATCH($B22,$A$8:$A$14,0))&"","台帳に無い番号")) | E22: =IF($B22="","",IFERROR(INDEX($C$8:$C$14,MATCH($B22,$A$8:$A$14,0))&"","")) | F22: 照合 | H22: 変化なし | J22: 変化なし | K22: 同じ | L22: 30 | M22: 0 | O22: そのまま使う | Q22: 品証 A
A23: 46237 | B23: 限-002 | C23: =IF($B23="","",IFERROR(INDEX($B$8:$B$14,MATCH($B23,$A$8:$A$14,0))&"","台帳に無い番号")) | E23: =IF($B23="","",IFERROR(INDEX($C$8:$C$14,MATCH($B23,$A$8:$A$14,0))&"","")) | F23: 照合 | H23: 変化なし | J23: 変化なし | K23: 同じ | L23: 30 | M23: 0 | O23: そのまま使う | Q23: 品証 B | R23: 作ってから1か月後の照合。別の30個で見た
A24: 46237 | B24: 限-003 | C24: =IF($B24="","",IFERROR(INDEX($B$8:$B$14,MATCH($B24,$A$8:$A$14,0))&"","台帳に無い番号")) | E24: =IF($B24="","",IFERROR(INDEX($C$8:$C$14,MATCH($B24,$A$8:$A$14,0))&"","")) | F24: 照合 | H24: 変化なし | J24: 変化なし | K24: 同じ | L24: 30 | M24: 1 | O24: そのまま使う | Q24: 品証 B | R24: 作ってから1か月後の照合。別の30個で見た
A25: 46237 | B25: 限-004 | C25: =IF($B25="","",IFERROR(INDEX($B$8:$B$14,MATCH($B25,$A$8:$A$14,0))&"","台帳に無い番号")) | E25: =IF($B25="","",IFERROR(INDEX($C$8:$C$14,MATCH($B25,$A$8:$A$14,0))&"","")) | F25: 照合 | H25: 変化なし | J25: 変化なし | K25: 同じ | L25: 30 | M25: 0 | O25: そのまま使う | Q25: 品証 B | R25: 作ってから1か月後の照合。別の30個で見た
A26: 46275 | B26: 限-005 | C26: =IF($B26="","",IFERROR(INDEX($B$8:$B$14,MATCH($B26,$A$8:$A$14,0))&"","台帳に無い番号")) | E26: =IF($B26="","",IFERROR(INDEX($C$8:$C$14,MATCH($B26,$A$8:$A$14,0))&"","")) | F26: 定期点検 | H26: 変色 | J26: 変化なし | K26: 写真なし | O26: 作り直す | Q26: 品証 A | R26: 合格側が黄ばんだ。期限も近いので新しい組を作る

Sheet 点検記録
A1: 限度見本の点検記録
A2: 点検や照合をしたら1回1行で書きます。見本番号を入れると、品番・品名と不具合の項目が管理台帳から入ります。
A3: 色の意味 | C3: 自動で入る欄 | E3: 書き込む欄 | G3: 台帳に無い番号
A5: いつ・どの見本 | C5: 台帳から（自動） | E5: 見本の状態 | I5: 照合（判定の割れ） | K5: 処置と記録
A6: 点検日 | B6: 見本番号 （組） | C6: 品番・品名 （自動） | D6: 不具合の 項目 （自動） | E6: 点検の 種類 | F6: 合格側の 状態 | G6: 不合格側の 状態 | H6: 写真と 比べて | I6: 照合した 個数 | J6: 判定が 割れた個数 | K6: 処置 | L6: 点検者 | M6: 気づいたこと
C7: =IF($B7="","",IFERROR(INDEX('管理台帳'!$B$7:$B$106,MATCH($B7,'管理台帳'!$A$7:$A$106,0))&"","台帳に無い番号")) | D7: =IF($B7="","",IFERROR(INDEX('管理台帳'!$C$7:$C$106,MATCH($B7,'管理台帳'!$A$7:$A$106,0))&"",""))
C8: =IF($B8="","",IFERROR(INDEX('管理台帳'!$B$7:$B$106,MATCH($B8,'管理台帳'!$A$7:$A$106,0))&"","台帳に無い番号")) | D8: =IF($B8="","",IFERROR(INDEX('管理台帳'!$C$7:$C$106,MATCH($B8,'管理台帳'!$A$7:$A$106,0))&"",""))
C9: =IF($B9="","",IFERROR(INDEX('管理台帳'!$B$7:$B$106,MATCH($B9,'管理台帳'!$A$7:$A$106,0))&"","台帳に無い番号")) | D9: =IF($B9="","",IFERROR(INDEX('管理台帳'!$C$7:$C$106,MATCH($B9,'管理台帳'!$A$7:$A$106,0))&"",""))
C10: =IF($B10="","",IFERROR(INDEX('管理台帳'!$B$7:$B$106,MATCH($B10,'管理台帳'!$A$7:$A$106,0))&"","台帳に無い番号")) | D10: =IF($B10="","",IFERROR(INDEX('管理台帳'!$C$7:$C$106,MATCH($B10,'管理台帳'!$A$7:$A$106,0))&"",""))
C11: =IF($B11="","",IFERROR(INDEX('管理台帳'!$B$7:$B$106,MATCH($B11,'管理台帳'!$A$7:$A$106,0))&"","台帳に無い番号")) | D11: =IF($B11="","",IFERROR(INDEX('管理台帳'!$C$7:$C$106,MATCH($B11,'管理台帳'!$A$7:$A$106,0))&"",""))
C12: =IF($B12="","",IFERROR(INDEX('管理台帳'!$B$7:$B$106,MATCH($B12,'管理台帳'!$A$7:$A$106,0))&"","台帳に無い番号")) | D12: =IF($B12="","",IFERROR(INDEX('管理台帳'!$C$7:$C$106,MATCH($B12,'管理台帳'!$A$7:$A$106,0))&"",""))
C13: =IF($B13="","",IFERROR(INDEX('管理台帳'!$B$7:$B$106,MATCH($B13,'管理台帳'!$A$7:$A$106,0))&"","台帳に無い番号")) | D13: =IF($B13="","",IFERROR(INDEX('管理台帳'!$C$7:$C$106,MATCH($B13,'管理台帳'!$A$7:$A$106,0))&"",""))
C14: =IF($B14="","",IFERROR(INDEX('管理台帳'!$B$7:$B$106,MATCH($B14,'管理台帳'!$A$7:$A$106,0))&"","台帳に無い番号")) | D14: =IF($B14="","",IFERROR(INDEX('管理台帳'!$C$7:$C$106,MATCH($B14,'管理台帳'!$A$7:$A$106,0))&"",""))
C15: =IF($B15="","",IFERROR(INDEX('管理台帳'!$B$7:$B$106,MATCH($B15,'管理台帳'!$A$7:$A$106,0))&"","台帳に無い番号")) | D15: =IF($B15="","",IFERROR(INDEX('管理台帳'!$C$7:$C$106,MATCH($B15,'管理台帳'!$A$7:$A$106,0))&"",""))
C16: =IF($B16="","",IFERROR(INDEX('管理台帳'!$B$7:$B$106,MATCH($B16,'管理台帳'!$A$7:$A$106,0))&"","台帳に無い番号")) | D16: =IF($B16="","",IFERROR(INDEX('管理台帳'!$C$7:$C$106,MATCH($B16,'管理台帳'!$A$7:$A$106,0))&"",""))
C17: =IF($B17="","",IFERROR(INDEX('管理台帳'!$B$7:$B$106,MATCH($B17,'管理台帳'!$A$7:$A$106,0))&"","台帳に無い番号")) | D17: =IF($B17="","",IFERROR(INDEX('管理台帳'!$C$7:$C$106,MATCH($B17,'管理台帳'!$A$7:$A$106,0))&"",""))
C18: =IF($B18="","",IFERROR(INDEX('管理台帳'!$B$7:$B$106,MATCH($B18,'管理台帳'!$A$7:$A$106,0))&"","台帳に無い番号")) | D18: =IF($B18="","",IFERROR(INDEX('管理台帳'!$C$7:$C$106,MATCH($B18,'管理台帳'!$A$7:$A$106,0))&"",""))
... C206: =IF($B206="","",IFERROR(INDEX('管理台帳'!$B$7:$B$106,MATCH($B206,'管理台帳'!$A$7:$A$106,0))&"","台帳に無い番号")) | D206: =IF($B206="","",IFERROR(INDEX('管理台帳'!$C$7:$C$106,MATCH($B206,'管理台帳'!$A$7:$A$106,0))&"",""))

Sheet 使い方
A1: 使い方
A3: 1. | B3: 見本を作ったら「管理台帳」に1行足します。1行が1組（合格側1個と不合格側1個）です。不具合の項目が違えば行を分けるので、3項目なら3行・6個になります。
A4: 2. | B4: 見本番号は、袋のラベルに書く番号と同じにします。合格側と不合格側の番号は、袋に大きく書く「合格側」「不合格側」の文字と組にして付けます。
A5: 3. | B5: 定規を並べて撮った写真を袋の裏に貼ったら、「定規つきの写真」を「有」にします。色むらのように写真で残せない項目は「無」にします。
A6: 4. | B6: 有効期限と点検の間隔（月）は、客先の指定、社内の決まりの順に確かめて入れます。客先の承認が要る見本は、承認日も書きます。
A7: 5. | B7: 点検や照合をしたら「点検記録」に1回1行で書きます。管理台帳の最後の点検日と次回点検日は、点検記録の日付から自動で入ります。点検記録が無いうちは、作成日から数えます。
A8: 6. | B8: 作り直した組は、1か月ほどあとに別の物で同じ照合をもう一度します。点検記録には種類「照合」で、照合した個数と判定が割れた個数を書きます。
A9: 7. | B9: 有効期限か次回点検日を過ぎた欄は濃い黄色、30日以内に来る欄は薄い黄色になります。開いた日の日付で判定するので、色は日がたつと変わります。
A10: 8. | B10: 置き換えた古い見本は、捨てずに状態を「参考」にすると、以前の境目と見比べられます。参考の見本は検査台に置かず、保管場所を分けます。
A11: 9. | B11: 見本を捨てたら、状態を「廃却」にして廃却日と理由を書きます。廃却に承認が要る職場では、承認した人を備考に書きます。行は消さずに残します。
A12: 10. | B12: 見出しの行にフィルターを付けてあります。状態を「有効」と「更新中」に絞ると、いま判定に使っている見本の一覧になります。
A13: 11. | B13: 印刷は A4 横で、横幅が1枚に収まります。印刷範囲は、どちらのシートも2枚分（管理台帳45件、点検記録35件）です。件数が増えたら印刷範囲を広げてください。数式は管理台帳100件、点検記録200件まで入っています。
A14: 12. | B14: 見本の作り方（記事）：https://genba-tameshita.com/appearance-limit-sample-remake/
